BEGIN:VCALENDAR
VERSION:2.0
METHOD:PUBLISH
PRODID::-//Obvius//NONSGML ICal//DA
BEGIN:VEVENT
UID:2662919@faos.ku.dk
DESCRIPTION:Lektor Christian Lyhne Ibsen fra FAOS drager i september til B
 oston\, hvor han tiltræder som gæsteforsker på Harvard University.\n\nh
 ttps://faos.ku.dk/det-sker/faos-forsker-til-harvard/
SUMMARY:FAOS-forsker til Harvard
DTSTART:20170914T220000Z
DTSTAMP:20170914T220000Z
END:VEVENT
END:VCALENDAR
