BEGIN:VCALENDAR
VERSION:2.0
METHOD:PUBLISH
PRODID::-//Obvius//NONSGML ICal//DA
BEGIN:VEVENT
UID:2438612@faos.ku.dk
DESCRIPTION:Mikkel Mailand fra FAOS var med da tænketanken Cevea satte fo
 kus på atypiske ansættelser\, som for eksempel freelancere og vikarerer 
 ved konferencen: Ulighedens Topmøde\n\nhttps://faos.ku.dk/det-sker/mikkel
 -mailand-i-debat-om-atypiske-ansaettelser/
SUMMARY:Mikkel Mailand i debat om atypiske ansættelser
LOCATION:DGI-Byen
ORGANIZER:Cevea
DTSTART:20170226T230000Z
DTSTAMP:20170226T230000Z
DTEND:20170226T230000Z
END:VEVENT
END:VCALENDAR
