BEGIN:VCALENDAR
VERSION:2.0
METHOD:PUBLISH
PRODID::-//Obvius//NONSGML ICal//DA
BEGIN:VEVENT
UID:2253269@faos.ku.dk
DESCRIPTION:From October 3rd through 14th\, researcher at FAOS Søren Kaj
  Andersen will visit the University of Amsterdam. In this occasion\, Ams
 terdam Institute for Advanced Labour Studies\, AIAS\, has invited Søren K
 aj Andersen to present his research at a lunch seminar on October 6th.\n\n
 https://faos.ku.dk/english/events/faos-in-amsterdam/
SUMMARY:FAOS-researcher visits the University of Amsterdam
DTSTART:20161003T220000Z
DTSTAMP:20161003T220000Z
END:VEVENT
END:VCALENDAR
